BEGIN:VCALENDAR
VERSION:2.0
PRODID:-//empowercdc.org//NONSGML kigkonsult.se iCalcreator 2.30.10//
CALSCALE:GREGORIAN
METHOD:PUBLISH
UID:65805943-7140-45fb-be0e-5781e1c8a3e7
X-WR-CALDESC:TX SMP\nSCAM OF THE MONTH\n@10:30AM\n\nEXERCISE\nFITNESS BINGO
 \n@11AM
X-WR-RELCALID:0a85d8aadc9d3a5329da516673eac762
X-WR-TIMEZONE:America/Chicago
BEGIN:VTIMEZONE
TZID:America/Chicago
BEGIN:STANDARD
TZNAME:CST
DTSTART:20241103T020000
TZOFFSETFROM:-0500
TZOFFSETTO:-0600
RDATE:20251102T020000
RDATE:20261101T020000
END:STANDARD
BEGIN:DAYLIGHT
TZNAME:CDT
DTSTART:20250309T020000
TZOFFSETFROM:-0600
TZOFFSETTO:-0500
RDATE:20260308T020000
END:DAYLIGHT
END:VTIMEZONE
BEGIN:VEVENT
UID:9ff4d060-7fd1-4716-88b2-43f18fbda74e
DTSTAMP:20260423T114820Z
DESCRIPTION:TX SMP\nSCAM OF THE MONTH\n@10:30AM\n\nEXERCISE\nFITNESS BINGO
 \n@11AM
DTSTART;TZID=America/Chicago:20250718T103000
DTEND;TZID=America/Chicago:20250718T120000
LOCATION:15707 Kuykendahl Ct\, Conroe\, TX 77384 US
SUMMARY:Kuykendalh Court: TX SMP\, Exercise
END:VEVENT
END:VCALENDAR
