BEGIN:VCALENDAR
VERSION:2.0
PRODID:-//empowercdc.org//NONSGML kigkonsult.se iCalcreator 2.30.10//
CALSCALE:GREGORIAN
METHOD:PUBLISH
UID:579224d8-6d2c-4e1e-ac08-90677844ca3b
X-WR-CALDESC:ARTS & CRAFTS-\nEmpower\n\nHomemade Sunscreen\n@12:00 PM
X-WR-RELCALID:bee0dd4b3aa14d9d56cefc3fc84aded5
X-WR-TIMEZONE:America/Chicago
BEGIN:VTIMEZONE
TZID:America/Chicago
BEGIN:STANDARD
TZNAME:CST
DTSTART:20241103T020000
TZOFFSETFROM:-0500
TZOFFSETTO:-0600
RDATE:20251102T020000
RDATE:20261101T020000
END:STANDARD
BEGIN:DAYLIGHT
TZNAME:CDT
DTSTART:20250309T020000
TZOFFSETFROM:-0600
TZOFFSETTO:-0500
RDATE:20260308T020000
END:DAYLIGHT
END:VTIMEZONE
BEGIN:VEVENT
UID:133e7156-e87f-4bce-837a-f79d6b1aa12c
DTSTAMP:20260423T114651Z
DESCRIPTION:ARTS & CRAFTS-\nEmpower\n\nHomemade Sunscreen\n@12:00 PM
DTSTART;TZID=America/Chicago:20250718T120000
DTEND;TZID=America/Chicago:20250718T130000
LOCATION:1830 Hollyoak Dr\, Houston\, TX 77084 US
SUMMARY:Hollyoak: Arts & Crafts
END:VEVENT
END:VCALENDAR
