BEGIN:VCALENDAR
VERSION:2.0
PRODID:-//empowercdc.org//NONSGML kigkonsult.se iCalcreator 2.30.10//
CALSCALE:GREGORIAN
METHOD:PUBLISH
UID:8fe86789-1341-4803-9d55-909cfc0fcb58
X-WR-CALDESC:TxSMP- Empower\nScam of the Month\n@1:30 PM\n\nFOOD PANTRY-\nE
 mpower\n\nFood Pantry\n@ 2:00PM
X-WR-RELCALID:e164341937e057dcf7cb3c1f3d9b5ff4
X-WR-TIMEZONE:America/Chicago
BEGIN:VTIMEZONE
TZID:America/Chicago
BEGIN:STANDARD
TZNAME:CST
DTSTART:20241103T020000
TZOFFSETFROM:-0500
TZOFFSETTO:-0600
RDATE:20251102T020000
RDATE:20261101T020000
END:STANDARD
BEGIN:DAYLIGHT
TZNAME:CDT
DTSTART:20250309T020000
TZOFFSETFROM:-0600
TZOFFSETTO:-0500
RDATE:20260308T020000
END:DAYLIGHT
END:VTIMEZONE
BEGIN:VEVENT
UID:5a4571c0-2329-4181-98d4-5fcf42c7141a
DTSTAMP:20260423T115103Z
DESCRIPTION:TxSMP- Empower\nScam of the Month\n@1:30 PM\n\nFOOD PANTRY-\nEm
 power\n\nFood Pantry\n@ 2:00PM
DTSTART;TZID=America/Chicago:20250717T133000
DTEND;TZID=America/Chicago:20250717T150000
LOCATION:325 Flagship Boulevard\, Montgomery\, TX 77316 US
SUMMARY:The Heritage: TX SMP\, Food Pantry
END:VEVENT
END:VCALENDAR
