BEGIN:VCALENDAR
VERSION:2.0
PRODID:-//empowercdc.org//NONSGML kigkonsult.se iCalcreator 2.30.10//
CALSCALE:GREGORIAN
METHOD:PUBLISH
UID:6dfa9f24-119a-4dca-ab41-dc1e476282e2
X-WR-CALDESC:TxSMP- Empower\nScam of the Month\n@10:00 AM
X-WR-RELCALID:2d6534effd1b78ec92afbec219d5fd87
X-WR-TIMEZONE:America/Chicago
BEGIN:VTIMEZONE
TZID:America/Chicago
BEGIN:STANDARD
TZNAME:CST
DTSTART:20241103T020000
TZOFFSETFROM:-0500
TZOFFSETTO:-0600
RDATE:20251102T020000
RDATE:20261101T020000
END:STANDARD
BEGIN:DAYLIGHT
TZNAME:CDT
DTSTART:20250309T020000
TZOFFSETFROM:-0600
TZOFFSETTO:-0500
RDATE:20260308T020000
END:DAYLIGHT
END:VTIMEZONE
BEGIN:VEVENT
UID:532ca0d4-6f5f-46c0-9966-1ceb134fc8a6
DTSTAMP:20260423T114650Z
DESCRIPTION:TxSMP- Empower\nScam of the Month\n@10:00 AM
DTSTART;TZID=America/Chicago:20250717T100000
DTEND;TZID=America/Chicago:20250717T110000
LOCATION:219 Flagship Blvd\, Montgomery\, TX 77316 US
SUMMARY:The Heritage 55+: TX SMP
END:VEVENT
END:VCALENDAR
