BEGIN:VCALENDAR
VERSION:2.0
PRODID:-//empowercdc.org//NONSGML kigkonsult.se iCalcreator 2.30.10//
CALSCALE:GREGORIAN
METHOD:PUBLISH
UID:fca1a594-3e10-40a2-a28d-0122d9536ccc
X-WR-CALDESC:DISASTER PREPAREDNESS\nBuilding Personal & Family\nEmergency P
 lans\n@10:30AM\n\nSOCIAL\nESCAPE ROOM\n@11AM
X-WR-RELCALID:0ff6ade62369d7e5ca972990bdb82cdd
X-WR-TIMEZONE:America/Chicago
BEGIN:VTIMEZONE
TZID:America/Chicago
BEGIN:STANDARD
TZNAME:CST
DTSTART:20241103T020000
TZOFFSETFROM:-0500
TZOFFSETTO:-0600
RDATE:20251102T020000
RDATE:20261101T020000
END:STANDARD
BEGIN:DAYLIGHT
TZNAME:CDT
DTSTART:20250309T020000
TZOFFSETFROM:-0600
TZOFFSETTO:-0500
RDATE:20260308T020000
END:DAYLIGHT
END:VTIMEZONE
BEGIN:VEVENT
UID:9c1d7ca3-e7a1-4d72-8349-7d9b6a98f7b7
DTSTAMP:20260423T115022Z
DESCRIPTION:DISASTER PREPAREDNESS\nBuilding Personal & Family\nEmergency Pl
 ans\n@10:30AM\n\nSOCIAL\nESCAPE ROOM\n@11AM
DTSTART;TZID=America/Chicago:20250717T103000
DTEND;TZID=America/Chicago:20250717T120000
LOCATION:15707 Kuykendahl Ct\, Conroe\, TX 77384 US
SUMMARY:Kuykendalh Court: Disaster Preparedness
END:VEVENT
END:VCALENDAR
