BEGIN:VCALENDAR
VERSION:2.0
PRODID:-//empowercdc.org//NONSGML kigkonsult.se iCalcreator 2.30.10//
CALSCALE:GREGORIAN
METHOD:PUBLISH
UID:2507e8c7-1357-4841-8215-efa731c5b44d
X-WR-CALDESC:ARTS & CRAFTS\nEmpower\nVelvet Poster Art\n@1:00 PM\n*Resident
  only event*
X-WR-RELCALID:ebde9555d853ac86c7cc840a2f233052
X-WR-TIMEZONE:America/Chicago
BEGIN:VTIMEZONE
TZID:America/Chicago
BEGIN:STANDARD
TZNAME:CST
DTSTART:20241103T020000
TZOFFSETFROM:-0500
TZOFFSETTO:-0600
RDATE:20251102T020000
RDATE:20261101T020000
END:STANDARD
BEGIN:DAYLIGHT
TZNAME:CDT
DTSTART:20250309T020000
TZOFFSETFROM:-0600
TZOFFSETTO:-0500
RDATE:20260308T020000
END:DAYLIGHT
END:VTIMEZONE
BEGIN:VEVENT
UID:96694f32-9b0b-4da1-97a3-a9c32e924614
DTSTAMP:20260423T114336Z
DESCRIPTION:ARTS & CRAFTS\nEmpower\nVelvet Poster Art\n@1:00 PM\n*Resident 
 only event*
DTSTART;TZID=America/Chicago:20250717T130000
DTEND;TZID=America/Chicago:20250717T140000
LOCATION:6725 Brittmoore Road\, Houston\, TX 77041 US
SUMMARY:Brittmoore: Arts & Crafts
END:VEVENT
END:VCALENDAR
