BEGIN:VCALENDAR
VERSION:2.0
PRODID:-//empowercdc.org//NONSGML kigkonsult.se iCalcreator 2.30.10//
CALSCALE:GREGORIAN
METHOD:PUBLISH
UID:f6235d3f-39c5-4aca-8902-e4258de907f3
X-WR-CALDESC:TxSMP- Empower\nScam of the Month\n@12:00PM\n\nEXERCISE- Club2
 2\nAdaptive Fitness\n@1:00PM
X-WR-RELCALID:ac2a5989d20a00f0163ea06b10824cee
X-WR-TIMEZONE:America/Chicago
BEGIN:VTIMEZONE
TZID:America/Chicago
BEGIN:STANDARD
TZNAME:CST
DTSTART:20241103T020000
TZOFFSETFROM:-0500
TZOFFSETTO:-0600
RDATE:20251102T020000
RDATE:20261101T020000
END:STANDARD
BEGIN:DAYLIGHT
TZNAME:CDT
DTSTART:20250309T020000
TZOFFSETFROM:-0600
TZOFFSETTO:-0500
RDATE:20260308T020000
END:DAYLIGHT
END:VTIMEZONE
BEGIN:VEVENT
UID:5c13c26f-47ea-4b20-8307-6ffe3d80df54
DTSTAMP:20260423T114445Z
DESCRIPTION:TxSMP- Empower\nScam of the Month\n@12:00PM\n\nEXERCISE- Club22
 \nAdaptive Fitness\n@1:00PM
DTSTART;TZID=America/Chicago:20250715T120000
DTEND;TZID=America/Chicago:20250715T140000
LOCATION:1830 Hollyoak Dr\, Houston\, TX 77084 US
SUMMARY:Hollyoak: TX SMP\, Exercise
END:VEVENT
END:VCALENDAR
