BEGIN:VCALENDAR
VERSION:2.0
PRODID:-//empowercdc.org//NONSGML kigkonsult.se iCalcreator 2.30.10//
CALSCALE:GREGORIAN
METHOD:PUBLISH
UID:f92fbf84-bc59-4cc5-b4e5-9b22c96d1367
X-WR-CALDESC:\nSOCIAL\nMental Health\nCP-C.O.P.E\n@ 12:00 PM\nEXERCISE\nEmp
 ower\nDynamic Stretch\n@ 1:00 PM\n\n*Resident only event*
X-WR-RELCALID:6454710272e49a01afec45c5efc56b47
X-WR-TIMEZONE:America/Chicago
BEGIN:VTIMEZONE
TZID:America/Chicago
BEGIN:STANDARD
TZNAME:CST
DTSTART:20241103T020000
TZOFFSETFROM:-0500
TZOFFSETTO:-0600
RDATE:20251102T020000
RDATE:20261101T020000
END:STANDARD
BEGIN:DAYLIGHT
TZNAME:CDT
DTSTART:20250309T020000
TZOFFSETFROM:-0600
TZOFFSETTO:-0500
RDATE:20260308T020000
END:DAYLIGHT
END:VTIMEZONE
BEGIN:VEVENT
UID:728637f2-4bb4-4997-a631-624d7a3930f1
DTSTAMP:20260423T114331Z
DESCRIPTION:\nSOCIAL\nMental Health\nCP-C.O.P.E\n@ 12:00 PM\nEXERCISE\nEmpo
 wer\nDynamic Stretch\n@ 1:00 PM\n\n*Resident only event*
DTSTART;TZID=America/Chicago:20250714T120000
DTEND;TZID=America/Chicago:20250714T140000
LOCATION:12353 Huffmeister Rd\, Cypress\, TX 77429 US
SUMMARY:The Meadows: Social\, Exercise
END:VEVENT
END:VCALENDAR
