BEGIN:VCALENDAR
VERSION:2.0
PRODID:-//empowercdc.org//NONSGML kigkonsult.se iCalcreator 2.30.10//
CALSCALE:GREGORIAN
METHOD:PUBLISH
UID:102ed062-6ec1-4e3b-8377-f848fe49bed2
X-WR-CALDESC:ARTS & CRAFTS\nSUMMER HATS\n@11AM\n\n*Resident only event*
X-WR-RELCALID:29ea8f5859bdf94b29f0559c7e686ea1
X-WR-TIMEZONE:America/Chicago
BEGIN:VTIMEZONE
TZID:America/Chicago
BEGIN:STANDARD
TZNAME:CST
DTSTART:20241103T020000
TZOFFSETFROM:-0500
TZOFFSETTO:-0600
RDATE:20251102T020000
RDATE:20261101T020000
END:STANDARD
BEGIN:DAYLIGHT
TZNAME:CDT
DTSTART:20250309T020000
TZOFFSETFROM:-0600
TZOFFSETTO:-0500
RDATE:20260308T020000
END:DAYLIGHT
END:VTIMEZONE
BEGIN:VEVENT
UID:8e94ffb9-af29-4093-910f-6d3cbeb96183
DTSTAMP:20260423T114732Z
DESCRIPTION:ARTS & CRAFTS\nSUMMER HATS\n@11AM\n\n*Resident only event*
DTSTART;TZID=America/Chicago:20250714T110000
DTEND;TZID=America/Chicago:20250714T120000
LOCATION:1717 FM359\, Richmond\, TX 77406 US
SUMMARY:Jones Creek: Arts & Crafts
END:VEVENT
END:VCALENDAR
