BEGIN:VCALENDAR
VERSION:2.0
PRODID:-//empowercdc.org//NONSGML kigkonsult.se iCalcreator 2.30.10//
CALSCALE:GREGORIAN
METHOD:PUBLISH
UID:c35edc8d-a238-4539-84b4-27c1b32d7241
X-WR-CALDESC:\nHealth &\nNutrition\nSmoothies\n@1:00 PM\nDisaster\nPrepared
 ness\nWorkshop\nEmpower\n@2:00 PM\n\n*Resident only event*
X-WR-RELCALID:d20bc6ef38f4c5f705d92e03a2759b5c
X-WR-TIMEZONE:America/Chicago
BEGIN:VTIMEZONE
TZID:America/Chicago
BEGIN:STANDARD
TZNAME:CST
DTSTART:20241103T020000
TZOFFSETFROM:-0500
TZOFFSETTO:-0600
RDATE:20251102T020000
RDATE:20261101T020000
END:STANDARD
BEGIN:DAYLIGHT
TZNAME:CDT
DTSTART:20250309T020000
TZOFFSETFROM:-0600
TZOFFSETTO:-0500
RDATE:20260308T020000
END:DAYLIGHT
END:VTIMEZONE
BEGIN:VEVENT
UID:b2bd6b7f-1c1b-4a1d-8067-c269dd236907
DTSTAMP:20260423T115025Z
DESCRIPTION:\nHealth &\nNutrition\nSmoothies\n@1:00 PM\nDisaster\nPreparedn
 ess\nWorkshop\nEmpower\n@2:00 PM\n\n*Resident only event*
DTSTART;TZID=America/Chicago:20250711T130000
DTEND;TZID=America/Chicago:20250711T150000
LOCATION:12353 Huffmeister Rd\, Cypress\, TX 77429 US
SUMMARY:The Meadows: Health & Nutrition\, Disaster Preparedness
END:VEVENT
END:VCALENDAR
