BEGIN:VCALENDAR
VERSION:2.0
PRODID:-//empowercdc.org//NONSGML kigkonsult.se iCalcreator 2.30.10//
CALSCALE:GREGORIAN
METHOD:PUBLISH
UID:94c3f649-5431-4f19-a284-d04196954c41
X-WR-CALDESC:SENIOR 101 EMAIL\nLITERACY WORKSHOP\nEMAIL ETIQUETTE\n@9:30AM
 \n\nEXERCISE\nFITNESS BINGO\n@10:30AM\n\nARTS & CRAFTS\nSUMMER HATS\n@11:3
 0AM
X-WR-RELCALID:1cd8a29566b1241d1247196350c60db2
X-WR-TIMEZONE:America/Chicago
BEGIN:VTIMEZONE
TZID:America/Chicago
BEGIN:STANDARD
TZNAME:CST
DTSTART:20241103T020000
TZOFFSETFROM:-0500
TZOFFSETTO:-0600
RDATE:20251102T020000
RDATE:20261101T020000
END:STANDARD
BEGIN:DAYLIGHT
TZNAME:CDT
DTSTART:20250309T020000
TZOFFSETFROM:-0600
TZOFFSETTO:-0500
RDATE:20260308T020000
END:DAYLIGHT
END:VTIMEZONE
BEGIN:VEVENT
UID:7fcb006d-be7c-42a4-8fc1-af3f354a6e8e
DTSTAMP:20260423T115102Z
DESCRIPTION:SENIOR 101 EMAIL\nLITERACY WORKSHOP\nEMAIL ETIQUETTE\n@9:30AM\n
 \nEXERCISE\nFITNESS BINGO\n@10:30AM\n\nARTS & CRAFTS\nSUMMER HATS\n@11:30A
 M
DTSTART;TZID=America/Chicago:20250711T093000
DTEND;TZID=America/Chicago:20250711T120000
LOCATION:15707 Kuykendahl Ct\, Conroe\, TX 77384 US
SUMMARY:Kuykendalh Court: Senior 101\, Exercise\, Arts & Crafts
END:VEVENT
END:VCALENDAR
