BEGIN:VCALENDAR
VERSION:2.0
PRODID:-//empowercdc.org//NONSGML kigkonsult.se iCalcreator 2.30.10//
CALSCALE:GREGORIAN
METHOD:PUBLISH
UID:4ee5946c-16e1-4b5f-8385-888c5b1188f3
X-WR-CALDESC:ARTS & CRAFTS-\nDoTerra\n\nDoTerra Essentials\n@10:00 AM\n\nSO
 CIAL- Empower\nResident Brunch\n@ 11:00 AM
X-WR-RELCALID:3139bb5fe1819623abd4d035218a1777
X-WR-TIMEZONE:America/Chicago
BEGIN:VTIMEZONE
TZID:America/Chicago
BEGIN:STANDARD
TZNAME:CST
DTSTART:20241103T020000
TZOFFSETFROM:-0500
TZOFFSETTO:-0600
RDATE:20251102T020000
RDATE:20261101T020000
END:STANDARD
BEGIN:DAYLIGHT
TZNAME:CDT
DTSTART:20250309T020000
TZOFFSETFROM:-0600
TZOFFSETTO:-0500
RDATE:20260308T020000
END:DAYLIGHT
END:VTIMEZONE
BEGIN:VEVENT
UID:78695e21-fa1d-44a9-b750-bc9ce5d10dbc
DTSTAMP:20260423T114855Z
DESCRIPTION:ARTS & CRAFTS-\nDoTerra\n\nDoTerra Essentials\n@10:00 AM\n\nSOC
 IAL- Empower\nResident Brunch\n@ 11:00 AM
DTSTART;TZID=America/Chicago:20250711T100000
DTEND;TZID=America/Chicago:20250711T120000
LOCATION:1830 Hollyoak Dr\, Houston\, TX 77084 US
SUMMARY:Hollyoak: Arts & Crafts\, Social
END:VEVENT
END:VCALENDAR
