BEGIN:VCALENDAR
VERSION:2.0
PRODID:-//empowercdc.org//NONSGML kigkonsult.se iCalcreator 2.30.10//
CALSCALE:GREGORIAN
METHOD:PUBLISH
UID:2f1afaf0-e5d5-4b6b-8806-24921b080fb9
X-WR-CALDESC:ARTS & CRAFTS-\nEmpower\n\nRelaxation Bath Salt\n@10:00 AM
X-WR-RELCALID:7c2fa7a6df7a5ea71dae30d5d21eaa19
X-WR-TIMEZONE:America/Chicago
BEGIN:VTIMEZONE
TZID:America/Chicago
BEGIN:STANDARD
TZNAME:CST
DTSTART:20241103T020000
TZOFFSETFROM:-0500
TZOFFSETTO:-0600
RDATE:20251102T020000
RDATE:20261101T020000
END:STANDARD
BEGIN:DAYLIGHT
TZNAME:CDT
DTSTART:20250309T020000
TZOFFSETFROM:-0600
TZOFFSETTO:-0500
RDATE:20260308T020000
END:DAYLIGHT
END:VTIMEZONE
BEGIN:VEVENT
UID:8b674589-364d-4281-89ca-3705d1d8205b
DTSTAMP:20260423T114816Z
DESCRIPTION:ARTS & CRAFTS-\nEmpower\n\nRelaxation Bath Salt\n@10:00 AM
DTSTART;TZID=America/Chicago:20250710T100000
DTEND;TZID=America/Chicago:20250710T110000
LOCATION:219 Flagship Blvd\, Montgomery\, TX 77316 US
SUMMARY:The Heritage 55+: Arts & Crafts
END:VEVENT
END:VCALENDAR
