BEGIN:VCALENDAR
VERSION:2.0
PRODID:-//empowercdc.org//NONSGML kigkonsult.se iCalcreator 2.30.10//
CALSCALE:GREGORIAN
METHOD:PUBLISH
UID:d66d3a4d-1a9f-40c7-b19c-4ec9f44d2680
X-WR-CALDESC:EXERCISE\nFITNESS BINGO\n@10AM\n\nSOCIAL\nBIRTHDAY MEET & GREE
 T\n@11AM
X-WR-RELCALID:6df5cb0d4a69941a177d250a1de78b73
X-WR-TIMEZONE:America/Chicago
BEGIN:VTIMEZONE
TZID:America/Chicago
BEGIN:STANDARD
TZNAME:CST
DTSTART:20241103T020000
TZOFFSETFROM:-0500
TZOFFSETTO:-0600
RDATE:20251102T020000
RDATE:20261101T020000
END:STANDARD
BEGIN:DAYLIGHT
TZNAME:CDT
DTSTART:20250309T020000
TZOFFSETFROM:-0600
TZOFFSETTO:-0500
RDATE:20260308T020000
END:DAYLIGHT
END:VTIMEZONE
BEGIN:VEVENT
UID:fbcab8e8-0806-4312-9069-c998ab5f6b85
DTSTAMP:20260423T114909Z
DESCRIPTION:EXERCISE\nFITNESS BINGO\n@10AM\n\nSOCIAL\nBIRTHDAY MEET & GREET
 \n@11AM
DTSTART;TZID=America/Chicago:20250710T100000
DTEND;TZID=America/Chicago:20250710T120000
LOCATION:15707 Kuykendahl Ct\, Conroe\, TX 77384 US
SUMMARY:Kuykendalh Court: Exercise\, Social
END:VEVENT
END:VCALENDAR
