BEGIN:VCALENDAR
VERSION:2.0
PRODID:-//empowercdc.org//NONSGML kigkonsult.se iCalcreator 2.30.10//
CALSCALE:GREGORIAN
METHOD:PUBLISH
UID:1dbcd0c8-93a0-4e68-a116-c00509e9a50e
X-WR-CALDESC:Financial Planning\nEmpower\nBudgeting Worksheet\n@1:00 PM\n\n
 Disaster Preparedness\nWorkshop\nEmpower\n@2:00 PM\n*Resident only event*
X-WR-RELCALID:62bc18162339a517bc4a6e49c312c324
X-WR-TIMEZONE:America/Chicago
BEGIN:VTIMEZONE
TZID:America/Chicago
BEGIN:STANDARD
TZNAME:CST
DTSTART:20241103T020000
TZOFFSETFROM:-0500
TZOFFSETTO:-0600
RDATE:20251102T020000
RDATE:20261101T020000
END:STANDARD
BEGIN:DAYLIGHT
TZNAME:CDT
DTSTART:20250309T020000
TZOFFSETFROM:-0600
TZOFFSETTO:-0500
RDATE:20260308T020000
END:DAYLIGHT
END:VTIMEZONE
BEGIN:VEVENT
UID:da25d850-bb30-4ce1-a08d-01469704661e
DTSTAMP:20260423T114740Z
DESCRIPTION:Financial Planning\nEmpower\nBudgeting Worksheet\n@1:00 PM\n\nD
 isaster Preparedness\nWorkshop\nEmpower\n@2:00 PM\n*Resident only event*
DTSTART;TZID=America/Chicago:20250710T130000
DTEND;TZID=America/Chicago:20250710T150000
LOCATION:6725 Brittmoore Road\, Houston\, TX 77041 US
SUMMARY:Brittmoore: Financial Planning\, Disaster Preparedness
END:VEVENT
END:VCALENDAR
