BEGIN:VCALENDAR
VERSION:2.0
PRODID:-//empowercdc.org//NONSGML kigkonsult.se iCalcreator 2.30.10//
CALSCALE:GREGORIAN
METHOD:PUBLISH
UID:e565dbb2-4edf-4f6e-bb74-25bf280d6de7
X-WR-CALDESC:EXERCISE-\nUnity Fitness\n\nChair Dance\n@10:00 AM
X-WR-RELCALID:b2f56ce15e85dad365ec55337b2c2ae8
X-WR-TIMEZONE:America/Chicago
BEGIN:VTIMEZONE
TZID:America/Chicago
BEGIN:STANDARD
TZNAME:CST
DTSTART:20241103T020000
TZOFFSETFROM:-0500
TZOFFSETTO:-0600
RDATE:20251102T020000
RDATE:20261101T020000
END:STANDARD
BEGIN:DAYLIGHT
TZNAME:CDT
DTSTART:20250309T020000
TZOFFSETFROM:-0600
TZOFFSETTO:-0500
RDATE:20260308T020000
END:DAYLIGHT
END:VTIMEZONE
BEGIN:VEVENT
UID:e9865b06-b31e-4db4-90f7-e1d97cc24d0d
DTSTAMP:20260423T114854Z
DESCRIPTION:EXERCISE-\nUnity Fitness\n\nChair Dance\n@10:00 AM
DTSTART;TZID=America/Chicago:20250709T100000
DTEND;TZID=America/Chicago:20250709T110000
LOCATION:1830 Hollyoak Dr\, Houston\, TX 77084 US
SUMMARY:Hollyoak: Unity Fitness
END:VEVENT
END:VCALENDAR
