BEGIN:VCALENDAR
VERSION:2.0
PRODID:-//empowercdc.org//NONSGML kigkonsult.se iCalcreator 2.30.10//
CALSCALE:GREGORIAN
METHOD:PUBLISH
UID:a4e3ec8d-63d4-4745-8db9-5b219ebdf602
X-WR-CALDESC:FOOD PANTRY\n@1PM\n\nEXERCISE\nLINE DANCE\n@2PM\n\n*Resident o
 nly event*
X-WR-RELCALID:47bed8f629841a1c228aa65c6916d9c5
X-WR-TIMEZONE:America/Chicago
BEGIN:VTIMEZONE
TZID:America/Chicago
BEGIN:STANDARD
TZNAME:CST
DTSTART:20241103T020000
TZOFFSETFROM:-0500
TZOFFSETTO:-0600
RDATE:20251102T020000
RDATE:20261101T020000
END:STANDARD
BEGIN:DAYLIGHT
TZNAME:CDT
DTSTART:20250309T020000
TZOFFSETFROM:-0600
TZOFFSETTO:-0500
RDATE:20260308T020000
END:DAYLIGHT
END:VTIMEZONE
BEGIN:VEVENT
UID:39a5c16a-05d7-4d17-acd7-9dc29902a173
DTSTAMP:20260423T114528Z
DESCRIPTION:FOOD PANTRY\n@1PM\n\nEXERCISE\nLINE DANCE\n@2PM\n\n*Resident on
 ly event*
DTSTART;TZID=America/Chicago:20250708T130000
DTEND;TZID=America/Chicago:20250708T150000
LOCATION:1620 Spencer Hwy\, South Houston\, TX 77587 US
SUMMARY:Windsor Gardens: Food Pantry\, Exercise
END:VEVENT
END:VCALENDAR
