BEGIN:VCALENDAR
VERSION:2.0
PRODID:-//empowercdc.org//NONSGML kigkonsult.se iCalcreator 2.30.10//
CALSCALE:GREGORIAN
METHOD:PUBLISH
UID:6c2c7334-d150-4f7a-ab4c-e3ed8ddf177e
X-WR-CALDESC:Senior Literacy 101-\nEmpower\nEmail Accounts Pt. 5\n@ 11:00AM
 \n\nTxSMP- Empower\nScam of the Month\n@12:00PM
X-WR-RELCALID:acade13bc0647f0874fd4d016b76b48e
X-WR-TIMEZONE:America/Chicago
BEGIN:VTIMEZONE
TZID:America/Chicago
BEGIN:STANDARD
TZNAME:CST
DTSTART:20241103T020000
TZOFFSETFROM:-0500
TZOFFSETTO:-0600
RDATE:20251102T020000
RDATE:20261101T020000
END:STANDARD
BEGIN:DAYLIGHT
TZNAME:CDT
DTSTART:20250309T020000
TZOFFSETFROM:-0600
TZOFFSETTO:-0500
RDATE:20260308T020000
END:DAYLIGHT
END:VTIMEZONE
BEGIN:VEVENT
UID:f47652c9-e6c9-4e37-a404-b587e96633b8
DTSTAMP:20260423T114907Z
DESCRIPTION:Senior Literacy 101-\nEmpower\nEmail Accounts Pt. 5\n@ 11:00AM
 \n\nTxSMP- Empower\nScam of the Month\n@12:00PM
DTSTART;TZID=America/Chicago:20250708T110000
DTEND;TZID=America/Chicago:20250708T130000
LOCATION:1830 Hollyoak Dr\, Houston\, TX 77084 US
SUMMARY:Hollyoak: Senior Literacy\, TX SMP
END:VEVENT
END:VCALENDAR
