BEGIN:VCALENDAR
VERSION:2.0
PRODID:-//empowercdc.org//NONSGML kigkonsult.se iCalcreator 2.30.10//
CALSCALE:GREGORIAN
METHOD:PUBLISH
UID:66a9216a-4487-4915-897c-6c15c67e1e6b
X-WR-CALDESC:ARTS & CRAFTS\nEmpower\nIndependence Day\nColoring\n@1:00 PM\n
 *Resident only event*
X-WR-RELCALID:6a6ef7a3aa576bacc1020987526dd2aa
X-WR-TIMEZONE:America/Chicago
BEGIN:VTIMEZONE
TZID:America/Chicago
BEGIN:STANDARD
TZNAME:CST
DTSTART:20241103T020000
TZOFFSETFROM:-0500
TZOFFSETTO:-0600
RDATE:20251102T020000
RDATE:20261101T020000
END:STANDARD
BEGIN:DAYLIGHT
TZNAME:CDT
DTSTART:20250309T020000
TZOFFSETFROM:-0600
TZOFFSETTO:-0500
RDATE:20260308T020000
END:DAYLIGHT
END:VTIMEZONE
BEGIN:VEVENT
UID:637e956a-b623-49b3-a71c-2f41a922bb15
DTSTAMP:20260423T114321Z
DESCRIPTION:ARTS & CRAFTS\nEmpower\nIndependence Day\nColoring\n@1:00 PM\n*
 Resident only event*
DTSTART;TZID=America/Chicago:20250708T130000
DTEND;TZID=America/Chicago:20250708T140000
LOCATION:6725 Brittmoore Road\, Houston\, TX 77041 US
SUMMARY:Brittmoore: Arts & Crafts
END:VEVENT
END:VCALENDAR
