BEGIN:VCALENDAR
VERSION:2.0
PRODID:-//empowercdc.org//NONSGML kigkonsult.se iCalcreator 2.30.10//
CALSCALE:GREGORIAN
METHOD:PUBLISH
UID:24a7b5a5-94bb-48e5-ac80-feb55bdc5d59
X-WR-CALDESC:SOCIAL-Texans\nBenefit\nBirthday Social\n@ 11:30AM\n\nEXERCISE
 - BONA\nSuper Senior Fitness\n@1:00PM
X-WR-RELCALID:7c72afcdad23b2c8e7b487cde2d906dd
X-WR-TIMEZONE:America/Chicago
BEGIN:VTIMEZONE
TZID:America/Chicago
BEGIN:STANDARD
TZNAME:CST
DTSTART:20241103T020000
TZOFFSETFROM:-0500
TZOFFSETTO:-0600
RDATE:20251102T020000
RDATE:20261101T020000
END:STANDARD
BEGIN:DAYLIGHT
TZNAME:CDT
DTSTART:20250309T020000
TZOFFSETFROM:-0600
TZOFFSETTO:-0500
RDATE:20260308T020000
END:DAYLIGHT
END:VTIMEZONE
BEGIN:VEVENT
UID:3bc1e053-b09a-4afd-ba0b-641d6f18b126
DTSTAMP:20260423T114337Z
DESCRIPTION:SOCIAL-Texans\nBenefit\nBirthday Social\n@ 11:30AM\n\nEXERCISE-
  BONA\nSuper Senior Fitness\n@1:00PM
DTSTART;TZID=America/Chicago:20250703T113000
DTEND;TZID=America/Chicago:20250703T140000
LOCATION:1830 Hollyoak Dr\, Houston\, TX 77084 US
SUMMARY:Hollyoak: Social\, Exercise
END:VEVENT
END:VCALENDAR
