BEGIN:VCALENDAR
VERSION:2.0
PRODID:-//empowercdc.org//NONSGML kigkonsult.se iCalcreator 2.30.10//
CALSCALE:GREGORIAN
METHOD:PUBLISH
UID:a5e85c18-ad53-4918-aefb-5b51a3a2313e
X-WR-CALDESC:SOCIAL\nMENTAL HEALTH BINGO\nCP: COPE\n@1:30PM\n\nEXERCISE\nLI
 NE DANCE\n@2:30PM\n\n*Resident only event*
X-WR-RELCALID:d77187665e308b8818ce74f7ea3db200
X-WR-TIMEZONE:America/Chicago
BEGIN:VTIMEZONE
TZID:America/Chicago
BEGIN:STANDARD
TZNAME:CST
DTSTART:20241103T020000
TZOFFSETFROM:-0500
TZOFFSETTO:-0600
RDATE:20251102T020000
RDATE:20261101T020000
END:STANDARD
BEGIN:DAYLIGHT
TZNAME:CDT
DTSTART:20250309T020000
TZOFFSETFROM:-0600
TZOFFSETTO:-0500
RDATE:20260308T020000
END:DAYLIGHT
END:VTIMEZONE
BEGIN:VEVENT
UID:087ad6b4-4dff-4077-9660-2a9fbade9a5b
DTSTAMP:20260423T114332Z
DESCRIPTION:SOCIAL\nMENTAL HEALTH BINGO\nCP: COPE\n@1:30PM\n\nEXERCISE\nLIN
 E DANCE\n@2:30PM\n\n*Resident only event*
DTSTART;TZID=America/Chicago:20250701T133000
DTEND;TZID=America/Chicago:20250701T150000
LOCATION:1620 Spencer Hwy\, South Houston\, TX 77587 US
SUMMARY:Windsor Gardens: Exercise\, TX SMP
END:VEVENT
END:VCALENDAR
