BEGIN:VCALENDAR
VERSION:2.0
PRODID:-//empowercdc.org//NONSGML kigkonsult.se iCalcreator 2.30.10//
CALSCALE:GREGORIAN
METHOD:PUBLISH
UID:ff72e357-6bfe-42ec-91b8-219cfe6e75f4
X-WR-CALDESC:\nSOCIAL - Empower\nIndependence Day Social\n@ 1:00 PM\n\n*Res
 ident only event*
X-WR-RELCALID:5ca03e48436814d66de3a38c05763118
X-WR-TIMEZONE:America/Chicago
BEGIN:VTIMEZONE
TZID:America/Chicago
BEGIN:STANDARD
TZNAME:CST
DTSTART:20241103T020000
TZOFFSETFROM:-0500
TZOFFSETTO:-0600
RDATE:20251102T020000
RDATE:20261101T020000
END:STANDARD
BEGIN:DAYLIGHT
TZNAME:CDT
DTSTART:20250309T020000
TZOFFSETFROM:-0600
TZOFFSETTO:-0500
RDATE:20260308T020000
END:DAYLIGHT
END:VTIMEZONE
BEGIN:VEVENT
UID:4645e19f-f8d3-4532-818f-cf2d983da990
DTSTAMP:20260423T114731Z
DESCRIPTION:\nSOCIAL - Empower\nIndependence Day Social\n@ 1:00 PM\n\n*Resi
 dent only event*
DTSTART;TZID=America/Chicago:20250701T130000
DTEND;TZID=America/Chicago:20250701T150000
LOCATION:12353 Huffmeister Rd\, Cypress\, TX 77429 US
SUMMARY:The Meadows: Independence Day Social
END:VEVENT
END:VCALENDAR
