BEGIN:VCALENDAR
VERSION:2.0
PRODID:-//empowercdc.org//NONSGML kigkonsult.se iCalcreator 2.30.10//
CALSCALE:GREGORIAN
METHOD:PUBLISH
UID:329debf1-580a-4d98-aedd-bed9eea988e3
X-WR-CALDESC:DISASTER PREPAREDNESS\n&RESPONSE\nPLAN\n@9:30AM\n\nEXERCISE\nL
 INE DANCE\n@11:00AM\n\n*Resident only event*
X-WR-RELCALID:0c3a44277998bd6a66e8fbd3f9ec3c77
X-WR-TIMEZONE:America/Chicago
BEGIN:VTIMEZONE
TZID:America/Chicago
BEGIN:STANDARD
TZNAME:CST
DTSTART:20241103T020000
TZOFFSETFROM:-0500
TZOFFSETTO:-0600
RDATE:20251102T020000
RDATE:20261101T020000
END:STANDARD
BEGIN:DAYLIGHT
TZNAME:CDT
DTSTART:20250309T020000
TZOFFSETFROM:-0600
TZOFFSETTO:-0500
RDATE:20260308T020000
END:DAYLIGHT
END:VTIMEZONE
BEGIN:VEVENT
UID:9d31b535-cfd1-43c8-b010-093d9eab5c25
DTSTAMP:20260423T114615Z
DESCRIPTION:DISASTER PREPAREDNESS\n&RESPONSE\nPLAN\n@9:30AM\n\nEXERCISE\nLI
 NE DANCE\n@11:00AM\n\n*Resident only event*
DTSTART;TZID=America/Chicago:20250701T093000
DTEND;TZID=America/Chicago:20250701T103000
LOCATION:1717 FM359\, Richmond\, TX 77406 US
SUMMARY:Jones Creek: Disaster Preparedness
END:VEVENT
END:VCALENDAR
