BEGIN:VCALENDAR
VERSION:2.0
PRODID:-//empowercdc.org//NONSGML kigkonsult.se iCalcreator 2.30.10//
CALSCALE:GREGORIAN
METHOD:PUBLISH
UID:da249cd4-b9d0-46b3-81cf-1d91ab958a36
X-WR-CALDESC:ARTS & CRAFTS\nSUMMER SUNCATCHER\n@1:30PM\n\n*Resident only ev
 ent*
X-WR-RELCALID:02e35e6d2c44ce89411d4eb60d7c49c0
X-WR-TIMEZONE:America/Chicago
BEGIN:VTIMEZONE
TZID:America/Chicago
BEGIN:STANDARD
TZNAME:CST
DTSTART:20241103T020000
TZOFFSETFROM:-0500
TZOFFSETTO:-0600
RDATE:20251102T020000
RDATE:20261101T020000
END:STANDARD
BEGIN:DAYLIGHT
TZNAME:CDT
DTSTART:20250309T020000
TZOFFSETFROM:-0600
TZOFFSETTO:-0500
RDATE:20260308T020000
END:DAYLIGHT
END:VTIMEZONE
BEGIN:VEVENT
UID:80c7e25e-d880-4bc0-9fbb-1e9d1307b017
DTSTAMP:20260423T100736Z
DESCRIPTION:ARTS & CRAFTS\nSUMMER SUNCATCHER\n@1:30PM\n\n*Resident only eve
 nt*
DTSTART;TZID=America/Chicago:20250630T133000
DTEND;TZID=America/Chicago:20250630T150000
LOCATION:1620 Spencer Hwy\, South Houston\, TX 77587 US
SUMMARY:Windsor Gardens: Arts & Crafts
END:VEVENT
END:VCALENDAR
