BEGIN:VCALENDAR
VERSION:2.0
PRODID:-//empowercdc.org//NONSGML kigkonsult.se iCalcreator 2.30.10//
CALSCALE:GREGORIAN
METHOD:PUBLISH
UID:8445d06d-f7d8-4859-9abf-2a78b3bed10d
X-WR-CALDESC:SOCIAL -\nEmpower\nBirthday Social\n@ 3:00 PM\n\nARTS & CRAFTS
 \nEmpower\nVelvet Poster Arts\n@4:00 PM\n\n*Resident only event*
X-WR-RELCALID:82235f19dd0e598c892862e44244ca6d
X-WR-TIMEZONE:America/Chicago
BEGIN:VTIMEZONE
TZID:America/Chicago
BEGIN:STANDARD
TZNAME:CST
DTSTART:20241103T020000
TZOFFSETFROM:-0500
TZOFFSETTO:-0600
RDATE:20251102T020000
RDATE:20261101T020000
END:STANDARD
BEGIN:DAYLIGHT
TZNAME:CDT
DTSTART:20250309T020000
TZOFFSETFROM:-0600
TZOFFSETTO:-0500
RDATE:20260308T020000
END:DAYLIGHT
END:VTIMEZONE
BEGIN:VEVENT
UID:bd383969-5ad6-451b-821f-4da497a08b50
DTSTAMP:20260423T100613Z
DESCRIPTION:SOCIAL -\nEmpower\nBirthday Social\n@ 3:00 PM\n\nARTS & CRAFTS
 \nEmpower\nVelvet Poster Arts\n@4:00 PM\n\n*Resident only event*
DTSTART;TZID=America/Chicago:20250630T150000
DTEND;TZID=America/Chicago:20250630T160000
LOCATION:12353 Huffmeister Rd\, Cypress\, TX 77429 US
SUMMARY:The Meadows: Social
END:VEVENT
END:VCALENDAR
