BEGIN:VCALENDAR
VERSION:2.0
PRODID:-//empowercdc.org//NONSGML kigkonsult.se iCalcreator 2.30.10//
CALSCALE:GREGORIAN
METHOD:PUBLISH
UID:9f8b0429-402f-43ec-8e5d-65df74fc8f0f
X-WR-CALDESC:TxSMP- Empower\nScam of the Month\n@ 2:00 PM\n\nARTS & CRAFTS-
 \nEmpower\n\nStars and Stripes Art\n@3:00PM
X-WR-RELCALID:36b7c5c9421aacf1e52a79eb596fee5c
X-WR-TIMEZONE:America/Chicago
BEGIN:VTIMEZONE
TZID:America/Chicago
BEGIN:STANDARD
TZNAME:CST
DTSTART:20241103T020000
TZOFFSETFROM:-0500
TZOFFSETTO:-0600
RDATE:20251102T020000
RDATE:20261101T020000
END:STANDARD
BEGIN:DAYLIGHT
TZNAME:CDT
DTSTART:20250309T020000
TZOFFSETFROM:-0600
TZOFFSETTO:-0500
RDATE:20260308T020000
END:DAYLIGHT
END:VTIMEZONE
BEGIN:VEVENT
UID:ab817277-e7fc-437e-8216-2391bcdff806
DTSTAMP:20260423T103354Z
DESCRIPTION:TxSMP- Empower\nScam of the Month\n@ 2:00 PM\n\nARTS & CRAFTS-
 \nEmpower\n\nStars and Stripes Art\n@3:00PM
DTSTART;TZID=America/Chicago:20250630T140000
DTEND;TZID=America/Chicago:20250630T160000
LOCATION:325 Flagship Boulevard\, Montgomery\, TX 77316 US
SUMMARY:The Heritage: TxSMP\, Arts & Crafts
END:VEVENT
END:VCALENDAR
