BEGIN:VCALENDAR
VERSION:2.0
PRODID:-//empowercdc.org//NONSGML kigkonsult.se iCalcreator 2.30.10//
CALSCALE:GREGORIAN
METHOD:PUBLISH
UID:9fbcf908-8c95-464d-9113-e90665b92d78
X-WR-CALDESC:PROJECT CANVAS-\nEmpower\n\nCollege 101\nWorkshop\n@ 3:00 PM\n
 \n*Resident only event*
X-WR-RELCALID:2f2d5d46b44963c4dcadd88099014a6b
X-WR-TIMEZONE:America/Chicago
BEGIN:VTIMEZONE
TZID:America/Chicago
BEGIN:STANDARD
TZNAME:CST
DTSTART:20241103T020000
TZOFFSETFROM:-0500
TZOFFSETTO:-0600
RDATE:20251102T020000
RDATE:20261101T020000
END:STANDARD
BEGIN:DAYLIGHT
TZNAME:CDT
DTSTART:20250309T020000
TZOFFSETFROM:-0600
TZOFFSETTO:-0500
RDATE:20260308T020000
END:DAYLIGHT
END:VTIMEZONE
BEGIN:VEVENT
UID:abe231b1-82b0-422e-bf23-a2ba97f4c8c2
DTSTAMP:20260423T100411Z
DESCRIPTION:PROJECT CANVAS-\nEmpower\n\nCollege 101\nWorkshop\n@ 3:00 PM\n
 \n*Resident only event*
DTSTART;TZID=America/Chicago:20250627T150000
DTEND;TZID=America/Chicago:20250627T160000
LOCATION:12353 Huffmeister Rd\, Cypress\, TX 77429 US
SUMMARY:The Meadows: Project Canvas
END:VEVENT
END:VCALENDAR
