BEGIN:VCALENDAR
VERSION:2.0
PRODID:-//empowercdc.org//NONSGML kigkonsult.se iCalcreator 2.30.10//
CALSCALE:GREGORIAN
METHOD:PUBLISH
UID:cba2c85f-675b-47df-b782-5b40fafbb037
X-WR-CALDESC:SENIOR LITERACY 101\nCOMPOSING AN EFFECTIVE\nEMAIL\n@10AM\n\nE
 XERCISE\nLINE DANCE\n@10:30AM\n\nARTS & CRAFTS\nSUMMER SUNCATCHER\n@11AM
X-WR-RELCALID:f879fee7836cecda6d76995303c93f99
X-WR-TIMEZONE:America/Chicago
BEGIN:VTIMEZONE
TZID:America/Chicago
BEGIN:STANDARD
TZNAME:CST
DTSTART:20241103T020000
TZOFFSETFROM:-0500
TZOFFSETTO:-0600
RDATE:20251102T020000
RDATE:20261101T020000
END:STANDARD
BEGIN:DAYLIGHT
TZNAME:CDT
DTSTART:20250309T020000
TZOFFSETFROM:-0600
TZOFFSETTO:-0500
RDATE:20260308T020000
END:DAYLIGHT
END:VTIMEZONE
BEGIN:VEVENT
UID:31c51a3b-2ce6-47a2-933a-16bcac98c497
DTSTAMP:20260423T103219Z
DESCRIPTION:SENIOR LITERACY 101\nCOMPOSING AN EFFECTIVE\nEMAIL\n@10AM\n\nEX
 ERCISE\nLINE DANCE\n@10:30AM\n\nARTS & CRAFTS\nSUMMER SUNCATCHER\n@11AM
DTSTART;TZID=America/Chicago:20250627T100000
DTEND;TZID=America/Chicago:20250627T120000
LOCATION:15707 Kuykendahl Ct\, Conroe\, TX 77384 US
SUMMARY:Kuykendalh Court: Senior Literacy 101\, Exercise\, Arts & Crafts
END:VEVENT
END:VCALENDAR
