BEGIN:VCALENDAR
VERSION:2.0
PRODID:-//empowercdc.org//NONSGML kigkonsult.se iCalcreator 2.30.10//
CALSCALE:GREGORIAN
METHOD:PUBLISH
UID:8ffd5fa3-3e8c-4771-b32f-84ebf4754389
X-WR-CALDESC:Project Canvas\nCollege Readiness 101\n@1:00 PM\n\nSOCIAL- Emp
 ower\nSummer Splash Down\n@2:00PM
X-WR-RELCALID:25492fe0cf1871aea870d31a6a4aaf58
X-WR-TIMEZONE:America/Chicago
BEGIN:VTIMEZONE
TZID:America/Chicago
BEGIN:STANDARD
TZNAME:CST
DTSTART:20241103T020000
TZOFFSETFROM:-0500
TZOFFSETTO:-0600
RDATE:20251102T020000
RDATE:20261101T020000
END:STANDARD
BEGIN:DAYLIGHT
TZNAME:CDT
DTSTART:20250309T020000
TZOFFSETFROM:-0600
TZOFFSETTO:-0500
RDATE:20260308T020000
END:DAYLIGHT
END:VTIMEZONE
BEGIN:VEVENT
UID:505dce78-232b-41ec-8856-47f138295d5a
DTSTAMP:20260423T102332Z
DESCRIPTION:Project Canvas\nCollege Readiness 101\n@1:00 PM\n\nSOCIAL- Empo
 wer\nSummer Splash Down\n@2:00PM
DTSTART;TZID=America/Chicago:20250626T130000
DTEND;TZID=America/Chicago:20250626T150000
LOCATION:325 Flagship Boulevard\, Montgomery\, TX 77316 US
SUMMARY:The Heritage: Project Canvas\, Social
END:VEVENT
END:VCALENDAR
