BEGIN:VCALENDAR
VERSION:2.0
PRODID:-//empowercdc.org//NONSGML kigkonsult.se iCalcreator 2.30.10//
CALSCALE:GREGORIAN
METHOD:PUBLISH
UID:d01aef1c-6239-4428-983a-055741cdfc12
X-WR-CALDESC:EXERCISE\nLINE DANCE\n@10AM\n\nARTS & CRAFTS\nSUMMER FLIP FLOP
  DIAMOND\nPAINTING\n@10:30AM\n\nSOCIAL\nBIRTHDAY MOCKTAILS\n@11:30AM
X-WR-RELCALID:adff8c99bbaae7961355b35db21ca1b8
X-WR-TIMEZONE:America/Chicago
BEGIN:VTIMEZONE
TZID:America/Chicago
BEGIN:STANDARD
TZNAME:CST
DTSTART:20241103T020000
TZOFFSETFROM:-0500
TZOFFSETTO:-0600
RDATE:20251102T020000
RDATE:20261101T020000
END:STANDARD
BEGIN:DAYLIGHT
TZNAME:CDT
DTSTART:20250309T020000
TZOFFSETFROM:-0600
TZOFFSETTO:-0500
RDATE:20260308T020000
END:DAYLIGHT
END:VTIMEZONE
BEGIN:VEVENT
UID:05376a1a-7557-4a8c-8054-2bd184346ec0
DTSTAMP:20260423T103341Z
DESCRIPTION:EXERCISE\nLINE DANCE\n@10AM\n\nARTS & CRAFTS\nSUMMER FLIP FLOP 
 DIAMOND\nPAINTING\n@10:30AM\n\nSOCIAL\nBIRTHDAY MOCKTAILS\n@11:30AM
DTSTART;TZID=America/Chicago:20250626T100000
DTEND;TZID=America/Chicago:20250626T133000
LOCATION:15707 Kuykendahl Ct\, Conroe\, TX 77384 US
SUMMARY:Kuykendalh Court: Exercise\, Arts & Crafts
END:VEVENT
END:VCALENDAR
