BEGIN:VCALENDAR
VERSION:2.0
PRODID:-//empowercdc.org//NONSGML kigkonsult.se iCalcreator 2.30.10//
CALSCALE:GREGORIAN
METHOD:PUBLISH
UID:68aaef60-f7a0-480e-8cf2-4d95d6bb7a26
X-WR-CALDESC:HEALTH & NUTRITION-\nSuvida\n\nBingo Bonanza\n@ 12:00 PM
X-WR-RELCALID:17bebbe080475e07d3fa3d893a4fc4fa
X-WR-TIMEZONE:America/Chicago
BEGIN:VTIMEZONE
TZID:America/Chicago
BEGIN:STANDARD
TZNAME:CST
DTSTART:20241103T020000
TZOFFSETFROM:-0500
TZOFFSETTO:-0600
RDATE:20251102T020000
RDATE:20261101T020000
END:STANDARD
BEGIN:DAYLIGHT
TZNAME:CDT
DTSTART:20250309T020000
TZOFFSETFROM:-0600
TZOFFSETTO:-0500
RDATE:20260308T020000
END:DAYLIGHT
END:VTIMEZONE
BEGIN:VEVENT
UID:9943e92a-18c7-4574-b5d4-e15ad48444c2
DTSTAMP:20260423T103314Z
DESCRIPTION:HEALTH & NUTRITION-\nSuvida\n\nBingo Bonanza\n@ 12:00 PM
DTSTART;TZID=America/Chicago:20250626T120000
DTEND;TZID=America/Chicago:20250626T130000
LOCATION:1830 Hollyoak Dr\, Houston\, TX 77084 US
SUMMARY:Hollyoak: Health & Nutrition
END:VEVENT
END:VCALENDAR
