BEGIN:VCALENDAR
VERSION:2.0
PRODID:-//empowercdc.org//NONSGML kigkonsult.se iCalcreator 2.30.10//
CALSCALE:GREGORIAN
METHOD:PUBLISH
UID:7795e256-adf7-4a48-975c-720e49327978
X-WR-CALDESC:EXERCISE- Empower\nBingo & Wellness\n@11:00AM\n\nARTS & CRAFTS
 -\nEmpower\n\nHomemade Sunscreen\n@12:00 PM
X-WR-RELCALID:7ab50b9e2d162c157742a17b3b6fde89
X-WR-TIMEZONE:America/Chicago
BEGIN:VTIMEZONE
TZID:America/Chicago
BEGIN:STANDARD
TZNAME:CST
DTSTART:20241103T020000
TZOFFSETFROM:-0500
TZOFFSETTO:-0600
RDATE:20251102T020000
RDATE:20261101T020000
END:STANDARD
BEGIN:DAYLIGHT
TZNAME:CDT
DTSTART:20250309T020000
TZOFFSETFROM:-0600
TZOFFSETTO:-0500
RDATE:20260308T020000
END:DAYLIGHT
END:VTIMEZONE
BEGIN:VEVENT
UID:5f629b6e-6665-452b-9338-6d924e4c44f8
DTSTAMP:20260423T100644Z
DESCRIPTION:EXERCISE- Empower\nBingo & Wellness\n@11:00AM\n\nARTS & CRAFTS-
 \nEmpower\n\nHomemade Sunscreen\n@12:00 PM
DTSTART;TZID=America/Chicago:20250624T110000
DTEND;TZID=America/Chicago:20250624T130000
LOCATION:1830 Hollyoak Dr\, Houston\, TX 77084 US
SUMMARY:Hollyoak: Exercise\, Arts & Crafts
END:VEVENT
END:VCALENDAR
