BEGIN:VCALENDAR
VERSION:2.0
PRODID:-//empowercdc.org//NONSGML kigkonsult.se iCalcreator 2.30.10//
CALSCALE:GREGORIAN
METHOD:PUBLISH
UID:f3d237f6-48bb-4ae8-aec1-19e376effe89
X-WR-CALDESC:Disaster Preparedness\nWorkshop-Empower\nDisaster Recovery\n@ 
 1:00PM
X-WR-RELCALID:d19e723d63d282a587ed92b86588895b
X-WR-TIMEZONE:America/Chicago
BEGIN:VTIMEZONE
TZID:America/Chicago
BEGIN:STANDARD
TZNAME:CST
DTSTART:20241103T020000
TZOFFSETFROM:-0500
TZOFFSETTO:-0600
RDATE:20251102T020000
RDATE:20261101T020000
END:STANDARD
BEGIN:DAYLIGHT
TZNAME:CDT
DTSTART:20250309T020000
TZOFFSETFROM:-0600
TZOFFSETTO:-0500
RDATE:20260308T020000
END:DAYLIGHT
END:VTIMEZONE
BEGIN:VEVENT
UID:79f3f2d1-1d15-4c89-b31f-705685bfe131
DTSTAMP:20260423T100732Z
DESCRIPTION:Disaster Preparedness\nWorkshop-Empower\nDisaster Recovery\n@ 1
 :00PM
DTSTART;TZID=America/Chicago:20250623T130000
DTEND;TZID=America/Chicago:20250623T140000
LOCATION:325 Flagship Boulevard\, Montgomery\, TX 77316 US
SUMMARY:The Heritage: Disaster Preparedness
END:VEVENT
END:VCALENDAR
