BEGIN:VCALENDAR
VERSION:2.0
PRODID:-//empowercdc.org//NONSGML kigkonsult.se iCalcreator 2.30.10//
CALSCALE:GREGORIAN
METHOD:PUBLISH
UID:80222b44-bb1f-46fd-bb2a-6967b9294b70
X-WR-CALDESC:Health &\n\nNutrition-\nEmpower\n\nFruit Bash\n@3:00 PM\n\n*Re
 sident only event*
X-WR-RELCALID:00b6dc5c6f10aba56317c5c1481cf24a
X-WR-TIMEZONE:America/Chicago
BEGIN:VTIMEZONE
TZID:America/Chicago
BEGIN:STANDARD
TZNAME:CST
DTSTART:20241103T020000
TZOFFSETFROM:-0500
TZOFFSETTO:-0600
RDATE:20251102T020000
RDATE:20261101T020000
END:STANDARD
BEGIN:DAYLIGHT
TZNAME:CDT
DTSTART:20250309T020000
TZOFFSETFROM:-0600
TZOFFSETTO:-0500
RDATE:20260308T020000
END:DAYLIGHT
END:VTIMEZONE
BEGIN:VEVENT
UID:ab9b5d73-8355-4286-bb5a-918f947f7203
DTSTAMP:20260423T103433Z
DESCRIPTION:Health &\n\nNutrition-\nEmpower\n\nFruit Bash\n@3:00 PM\n\n*Res
 ident only event*
DTSTART;TZID=America/Chicago:20250620T150000
DTEND;TZID=America/Chicago:20250620T160000
LOCATION:12353 Huffmeister Rd\, Cypress\, TX 77429 US
SUMMARY:The Meadows: Disaster Preparedness\, Health & Nutrition
END:VEVENT
END:VCALENDAR
