BEGIN:VCALENDAR
VERSION:2.0
PRODID:-//empowercdc.org//NONSGML kigkonsult.se iCalcreator 2.30.10//
CALSCALE:GREGORIAN
METHOD:PUBLISH
UID:1e9d098f-8d00-498b-9fa2-996a5c96d8d3
X-WR-CALDESC:SOCIAL\nBIRTHDAY BINGO SOCIAL\nCP-JEANETTE MORALES\n@11AM\n\n*
 Resident only event*
X-WR-RELCALID:3b62f820ebeab29331c2bace1ae3c6f9
X-WR-TIMEZONE:America/Chicago
BEGIN:VTIMEZONE
TZID:America/Chicago
BEGIN:STANDARD
TZNAME:CST
DTSTART:20241103T020000
TZOFFSETFROM:-0500
TZOFFSETTO:-0600
RDATE:20251102T020000
RDATE:20261101T020000
END:STANDARD
BEGIN:DAYLIGHT
TZNAME:CDT
DTSTART:20250309T020000
TZOFFSETFROM:-0600
TZOFFSETTO:-0500
RDATE:20260308T020000
END:DAYLIGHT
END:VTIMEZONE
BEGIN:VEVENT
UID:9a6541c9-4758-44b8-b98b-c0c0a34f0a0f
DTSTAMP:20260423T100942Z
DESCRIPTION:SOCIAL\nBIRTHDAY BINGO SOCIAL\nCP-JEANETTE MORALES\n@11AM\n\n*R
 esident only event*
DTSTART;TZID=America/Chicago:20250617T110000
DTEND;TZID=America/Chicago:20250617T120000
LOCATION:1717 FM359\, Richmond\, TX 77406 US
SUMMARY:Jones Creek: Social
END:VEVENT
END:VCALENDAR
