BEGIN:VCALENDAR
VERSION:2.0
PRODID:-//empowercdc.org//NONSGML kigkonsult.se iCalcreator 2.30.10//
CALSCALE:GREGORIAN
METHOD:PUBLISH
UID:f02fda5a-5f02-48cb-8a27-bf12da9f1acb
X-WR-CALDESC:EXERCISE- Empower\nTai Chi\n@11:00AM\n\nTxSMP- Empower\nScam o
 f the Month\n@12:00PM
X-WR-RELCALID:068621facce39a4b8d2a239a9d3fd16d
X-WR-TIMEZONE:America/Chicago
BEGIN:VTIMEZONE
TZID:America/Chicago
BEGIN:STANDARD
TZNAME:CST
DTSTART:20241103T020000
TZOFFSETFROM:-0500
TZOFFSETTO:-0600
RDATE:20251102T020000
RDATE:20261101T020000
END:STANDARD
BEGIN:DAYLIGHT
TZNAME:CDT
DTSTART:20250309T020000
TZOFFSETFROM:-0600
TZOFFSETTO:-0500
RDATE:20260308T020000
END:DAYLIGHT
END:VTIMEZONE
BEGIN:VEVENT
UID:46554ca8-77b4-4002-b573-32d8d6f68a8a
DTSTAMP:20260423T100440Z
DESCRIPTION:EXERCISE- Empower\nTai Chi\n@11:00AM\n\nTxSMP- Empower\nScam of
  the Month\n@12:00PM
DTSTART;TZID=America/Chicago:20250617T110000
DTEND;TZID=America/Chicago:20250617T130000
LOCATION:1830 Hollyoak Dr\, Houston\, TX 77084 US
SUMMARY:Hollyoak: Exercise\, TxSMP
END:VEVENT
END:VCALENDAR
