BEGIN:VCALENDAR
VERSION:2.0
PRODID:-//empowercdc.org//NONSGML kigkonsult.se iCalcreator 2.30.10//
CALSCALE:GREGORIAN
METHOD:PUBLISH
UID:54078eb1-ef8a-494b-ae4e-61c2e5e804c6
X-WR-CALDESC:ARTS & CRAFTS\nEmpower\nVelvet Poster Arts\n@3:00 PM\n\n*Resid
 ent only event*
X-WR-RELCALID:cafe263ff3ac613a53f6eff1ecd6c9d5
X-WR-TIMEZONE:America/Chicago
BEGIN:VTIMEZONE
TZID:America/Chicago
BEGIN:STANDARD
TZNAME:CST
DTSTART:20241103T020000
TZOFFSETFROM:-0500
TZOFFSETTO:-0600
RDATE:20251102T020000
RDATE:20261101T020000
END:STANDARD
BEGIN:DAYLIGHT
TZNAME:CDT
DTSTART:20250309T020000
TZOFFSETFROM:-0600
TZOFFSETTO:-0500
RDATE:20260308T020000
END:DAYLIGHT
END:VTIMEZONE
BEGIN:VEVENT
UID:12097035-14c4-45ee-ac16-ceb5601f7ba6
DTSTAMP:20260423T100602Z
DESCRIPTION:ARTS & CRAFTS\nEmpower\nVelvet Poster Arts\n@3:00 PM\n\n*Reside
 nt only event*
DTSTART;TZID=America/Chicago:20250617T150000
DTEND;TZID=America/Chicago:20250617T160000
LOCATION:6725 Brittmoore Road\, Houston\, TX 77041 US
SUMMARY:Brittmoore: Arts & Crafts
END:VEVENT
END:VCALENDAR
