BEGIN:VCALENDAR
VERSION:2.0
PRODID:-//empowercdc.org//NONSGML kigkonsult.se iCalcreator 2.30.10//
CALSCALE:GREGORIAN
METHOD:PUBLISH
UID:9c419089-908b-4b52-9605-01f12409ffb0
X-WR-CALDESC:DISASTER PREPAREDNESS\nWORKSHOP\n\nDISASTER\nPREPAREDNESS&RESP
 ONSE\nPLAN\n@1:00PM\nSOCIAL\nIT’Z A BIRTHDAY PIZZA\nPARTY\n@1:30PM\n\n*Res
 ident only event*
X-WR-RELCALID:64c56eb7d207a8ca3aeea40f9c5b08b1
X-WR-TIMEZONE:America/Chicago
BEGIN:VTIMEZONE
TZID:America/Chicago
BEGIN:STANDARD
TZNAME:CST
DTSTART:20241103T020000
TZOFFSETFROM:-0500
TZOFFSETTO:-0600
RDATE:20251102T020000
RDATE:20261101T020000
END:STANDARD
BEGIN:DAYLIGHT
TZNAME:CDT
DTSTART:20250309T020000
TZOFFSETFROM:-0600
TZOFFSETTO:-0500
RDATE:20260308T020000
END:DAYLIGHT
END:VTIMEZONE
BEGIN:VEVENT
UID:815a4df8-870b-4d31-a6c8-761e8d9df219
DTSTAMP:20260423T100733Z
DESCRIPTION:DISASTER PREPAREDNESS\nWORKSHOP\n\nDISASTER\nPREPAREDNESS&RESPO
 NSE\nPLAN\n@1:00PM\nSOCIAL\nIT’Z A BIRTHDAY PIZZA\nPARTY\n@1:30PM\n\n*Resi
 dent only event*
DTSTART;TZID=America/Chicago:20250616T130000
DTEND;TZID=America/Chicago:20250616T150000
LOCATION:1620 Spencer Hwy\, South Houston\, TX 77587 US
SUMMARY:Windsor Gardens: Disaster Preparedness
END:VEVENT
END:VCALENDAR
