BEGIN:VCALENDAR
VERSION:2.0
PRODID:-//empowercdc.org//NONSGML kigkonsult.se iCalcreator 2.30.10//
CALSCALE:GREGORIAN
METHOD:PUBLISH
UID:b841337b-e286-4333-9644-c827d5d6f25b
X-WR-CALDESC:EXERCISE\nEmpower\nTai Chi\n@ 3:00 PM\n\nARTS & CRAFTS\nEmpowe
 r\nVelvet Poster Arts\n@4:00 PM\n\n*Resident only event*
X-WR-RELCALID:d82b4cfa78e3e41b6bf81d3964bd88e3
X-WR-TIMEZONE:America/Chicago
BEGIN:VTIMEZONE
TZID:America/Chicago
BEGIN:STANDARD
TZNAME:CST
DTSTART:20241103T020000
TZOFFSETFROM:-0500
TZOFFSETTO:-0600
RDATE:20251102T020000
RDATE:20261101T020000
END:STANDARD
BEGIN:DAYLIGHT
TZNAME:CDT
DTSTART:20250309T020000
TZOFFSETFROM:-0600
TZOFFSETTO:-0500
RDATE:20260308T020000
END:DAYLIGHT
END:VTIMEZONE
BEGIN:VEVENT
UID:88c2558f-a1c9-4e62-9d53-96d07b2d6ac2
DTSTAMP:20260423T100542Z
DESCRIPTION:EXERCISE\nEmpower\nTai Chi\n@ 3:00 PM\n\nARTS & CRAFTS\nEmpower
 \nVelvet Poster Arts\n@4:00 PM\n\n*Resident only event*
DTSTART;TZID=America/Chicago:20250616T150000
DTEND;TZID=America/Chicago:20250616T170000
LOCATION:12353 Huffmeister Rd\, Cypress\, TX 77429 US
SUMMARY:The Meadows: Exercise\, Arts & Crafts
END:VEVENT
END:VCALENDAR
