BEGIN:VCALENDAR
VERSION:2.0
PRODID:-//empowercdc.org//NONSGML kigkonsult.se iCalcreator 2.30.10//
CALSCALE:GREGORIAN
METHOD:PUBLISH
UID:a69b6750-3ee2-40e0-869b-f69d72d97569
X-WR-CALDESC:FOOD PANTRY-\nEmpower\n\nFood Pantry\n@ 2:00 PM\n\nARTS & CRAF
 TS-\nEmpower\n\nHomemade Sunscreen\n@3:00 PM
X-WR-RELCALID:7b827bc85fd193736a6c395f9af52c26
X-WR-TIMEZONE:America/Chicago
BEGIN:VTIMEZONE
TZID:America/Chicago
BEGIN:STANDARD
TZNAME:CST
DTSTART:20241103T020000
TZOFFSETFROM:-0500
TZOFFSETTO:-0600
RDATE:20251102T020000
RDATE:20261101T020000
END:STANDARD
BEGIN:DAYLIGHT
TZNAME:CDT
DTSTART:20250309T020000
TZOFFSETFROM:-0600
TZOFFSETTO:-0500
RDATE:20260308T020000
END:DAYLIGHT
END:VTIMEZONE
BEGIN:VEVENT
UID:8ca1eec7-24b4-4ae1-a35b-d4c3f4aa8567
DTSTAMP:20260423T103138Z
DESCRIPTION:FOOD PANTRY-\nEmpower\n\nFood Pantry\n@ 2:00 PM\n\nARTS & CRAFT
 S-\nEmpower\n\nHomemade Sunscreen\n@3:00 PM
DTSTART;TZID=America/Chicago:20250616T140000
DTEND;TZID=America/Chicago:20250616T160000
LOCATION:325 Flagship Boulevard\, Montgomery\, TX 77316 US
SUMMARY:The Heritage: Food Pantry\, Arts & Crafts
END:VEVENT
END:VCALENDAR
