BEGIN:VCALENDAR
VERSION:2.0
PRODID:-//empowercdc.org//NONSGML kigkonsult.se iCalcreator 2.30.10//
CALSCALE:GREGORIAN
METHOD:PUBLISH
UID:e338fc36-32e0-4bee-826d-b1cfa4762988
X-WR-CALDESC:TxSMP- Empower\nScam of the Month\n@ 11:00AM
X-WR-RELCALID:911fe1128c75390e48b642d73f414d9c
X-WR-TIMEZONE:America/Chicago
BEGIN:VTIMEZONE
TZID:America/Chicago
BEGIN:STANDARD
TZNAME:CST
DTSTART:20241103T020000
TZOFFSETFROM:-0500
TZOFFSETTO:-0600
RDATE:20251102T020000
RDATE:20261101T020000
END:STANDARD
BEGIN:DAYLIGHT
TZNAME:CDT
DTSTART:20250309T020000
TZOFFSETFROM:-0600
TZOFFSETTO:-0500
RDATE:20260308T020000
END:DAYLIGHT
END:VTIMEZONE
BEGIN:VEVENT
UID:4004921c-c77a-4676-a1e0-98b89d6fc931
DTSTAMP:20260423T100808Z
DESCRIPTION:TxSMP- Empower\nScam of the Month\n@ 11:00AM
DTSTART;TZID=America/Chicago:20250616T110000
DTEND;TZID=America/Chicago:20250616T120000
LOCATION:219 Flagship Blvd\, Montgomery\, TX 77316 US
SUMMARY:The Heritage 55+: TxSMP
END:VEVENT
END:VCALENDAR
