BEGIN:VCALENDAR
VERSION:2.0
PRODID:-//empowercdc.org//NONSGML kigkonsult.se iCalcreator 2.30.10//
CALSCALE:GREGORIAN
METHOD:PUBLISH
UID:00502934-8e27-4eff-a26b-76dfd45b81d2
X-WR-CALDESC:TxSMP- Empower\nScam of the Month\n@11:00AM
X-WR-RELCALID:ccd920ac41bf07998f132ede92e4c7ce
X-WR-TIMEZONE:America/Chicago
BEGIN:VTIMEZONE
TZID:America/Chicago
BEGIN:STANDARD
TZNAME:CST
DTSTART:20241103T020000
TZOFFSETFROM:-0500
TZOFFSETTO:-0600
RDATE:20251102T020000
RDATE:20261101T020000
END:STANDARD
BEGIN:DAYLIGHT
TZNAME:CDT
DTSTART:20250309T020000
TZOFFSETFROM:-0600
TZOFFSETTO:-0500
RDATE:20260308T020000
END:DAYLIGHT
END:VTIMEZONE
BEGIN:VEVENT
UID:fb2e97ef-acc8-4a48-84c6-f5b4fc749fe8
DTSTAMP:20260423T101037Z
DESCRIPTION:TxSMP- Empower\nScam of the Month\n@11:00AM
DTSTART;TZID=America/Chicago:20250616T110000
DTEND;TZID=America/Chicago:20250616T120000
LOCATION:219 Flagship Blvd\, Montgomery\, TX 77316 US
SUMMARY:The Heritage 55+: Disaster Preparedness\, TXSMP
END:VEVENT
END:VCALENDAR
