BEGIN:VCALENDAR
VERSION:2.0
PRODID:-//empowercdc.org//NONSGML kigkonsult.se iCalcreator 2.30.10//
CALSCALE:GREGORIAN
METHOD:PUBLISH
UID:4d46a61a-2fd6-4640-8fce-685e52a31715
X-WR-CALDESC:TX SMP\nSCAM OF THE MONTH\n@10:30AM\n\nEXERCISE\nLINE DANCE\n@
 11AM\n\n*Resident only event*
X-WR-RELCALID:8ba21ec01c5cf037d7c61f97c878006d
X-WR-TIMEZONE:America/Chicago
BEGIN:VTIMEZONE
TZID:America/Chicago
BEGIN:STANDARD
TZNAME:CST
DTSTART:20241103T020000
TZOFFSETFROM:-0500
TZOFFSETTO:-0600
RDATE:20251102T020000
RDATE:20261101T020000
END:STANDARD
BEGIN:DAYLIGHT
TZNAME:CDT
DTSTART:20250309T020000
TZOFFSETFROM:-0600
TZOFFSETTO:-0500
RDATE:20260308T020000
END:DAYLIGHT
END:VTIMEZONE
BEGIN:VEVENT
UID:d819ccf1-4b92-41e7-9786-2c636ed4a63c
DTSTAMP:20260423T100802Z
DESCRIPTION:TX SMP\nSCAM OF THE MONTH\n@10:30AM\n\nEXERCISE\nLINE DANCE\n@1
 1AM\n\n*Resident only event*
DTSTART;TZID=America/Chicago:20250616T103000
DTEND;TZID=America/Chicago:20250616T120000
LOCATION:1717 FM359\, Richmond\, TX 77406 US
SUMMARY:Jones Creek: TX SMP\, Exercise
END:VEVENT
END:VCALENDAR
