BEGIN:VCALENDAR
VERSION:2.0
PRODID:-//empowercdc.org//NONSGML kigkonsult.se iCalcreator 2.30.10//
CALSCALE:GREGORIAN
METHOD:PUBLISH
UID:cf5ce309-f159-4ec3-998e-13ab26e309cc
X-WR-CALDESC:SOCIAL - Empower\nFather’s Day\nSocial\n@ 3:00 PM\n\n*Resident
  only event*
X-WR-RELCALID:d4eba16c84dae7863177dde8a470d879
X-WR-TIMEZONE:America/Chicago
BEGIN:VTIMEZONE
TZID:America/Chicago
BEGIN:STANDARD
TZNAME:CST
DTSTART:20241103T020000
TZOFFSETFROM:-0500
TZOFFSETTO:-0600
RDATE:20251102T020000
RDATE:20261101T020000
END:STANDARD
BEGIN:DAYLIGHT
TZNAME:CDT
DTSTART:20250309T020000
TZOFFSETFROM:-0600
TZOFFSETTO:-0500
RDATE:20260308T020000
END:DAYLIGHT
END:VTIMEZONE
BEGIN:VEVENT
UID:c092366b-c271-481c-a095-e7c6ec9016a9
DTSTAMP:20260423T100604Z
DESCRIPTION:SOCIAL - Empower\nFather’s Day\nSocial\n@ 3:00 PM\n\n*Resident 
 only event*
DTSTART;TZID=America/Chicago:20250613T150000
DTEND;TZID=America/Chicago:20250613T170000
LOCATION:12353 Huffmeister Rd\, Cypress\, TX 77429 US
SUMMARY:The Meadows: Social
END:VEVENT
END:VCALENDAR
