BEGIN:VCALENDAR
VERSION:2.0
PRODID:-//empowercdc.org//NONSGML kigkonsult.se iCalcreator 2.30.10//
CALSCALE:GREGORIAN
METHOD:PUBLISH
UID:ce941ef6-7620-4c4a-97eb-10092ff5d9d4
X-WR-CALDESC:EXERCISE\nLINE DANCE\n@10:00AM\n\nSOCIAL\nMUSIC BINGO FATHERS 
 DAY\nCELEBRATION\nCP- TEXANS BENEFITS (JEFF)\n@2PM
X-WR-RELCALID:eb58dda4d5561570398861f8f80b0b62
X-WR-TIMEZONE:America/Chicago
BEGIN:VTIMEZONE
TZID:America/Chicago
BEGIN:STANDARD
TZNAME:CST
DTSTART:20241103T020000
TZOFFSETFROM:-0500
TZOFFSETTO:-0600
RDATE:20251102T020000
RDATE:20261101T020000
END:STANDARD
BEGIN:DAYLIGHT
TZNAME:CDT
DTSTART:20250309T020000
TZOFFSETFROM:-0600
TZOFFSETTO:-0500
RDATE:20260308T020000
END:DAYLIGHT
END:VTIMEZONE
BEGIN:VEVENT
UID:82ad1f91-da8b-4675-8c1c-822973617273
DTSTAMP:20260423T103341Z
DESCRIPTION:EXERCISE\nLINE DANCE\n@10:00AM\n\nSOCIAL\nMUSIC BINGO FATHERS D
 AY\nCELEBRATION\nCP- TEXANS BENEFITS (JEFF)\n@2PM
DTSTART;TZID=America/Chicago:20250613T100000
DTEND;TZID=America/Chicago:20250613T150000
LOCATION:15707 Kuykendahl Ct\, Conroe\, TX 77384 US
SUMMARY:Kuykendalh Court: Exercise\, Social
END:VEVENT
END:VCALENDAR
