BEGIN:VCALENDAR
VERSION:2.0
PRODID:-//empowercdc.org//NONSGML kigkonsult.se iCalcreator 2.30.10//
CALSCALE:GREGORIAN
METHOD:PUBLISH
UID:fdcebfec-f6dc-4cc9-986b-23cf8b94d049
X-WR-CALDESC:EXERCISE\nLINE DANCE\n@12:30PM\n\nSOCIAL\nPOOL PARTY / FATHER 
 DAY\nCELEBRATION\n@1PM\n\n*Resident only event*
X-WR-RELCALID:daf0f0c631d3e8ff6289f4e69b0f1259
X-WR-TIMEZONE:America/Chicago
BEGIN:VTIMEZONE
TZID:America/Chicago
BEGIN:STANDARD
TZNAME:CST
DTSTART:20241103T020000
TZOFFSETFROM:-0500
TZOFFSETTO:-0600
RDATE:20251102T020000
RDATE:20261101T020000
END:STANDARD
BEGIN:DAYLIGHT
TZNAME:CDT
DTSTART:20250309T020000
TZOFFSETFROM:-0600
TZOFFSETTO:-0500
RDATE:20260308T020000
END:DAYLIGHT
END:VTIMEZONE
BEGIN:VEVENT
UID:92f456d2-0c1f-4eb4-bdf1-fe29decef9ed
DTSTAMP:20260423T100802Z
DESCRIPTION:EXERCISE\nLINE DANCE\n@12:30PM\n\nSOCIAL\nPOOL PARTY / FATHER D
 AY\nCELEBRATION\n@1PM\n\n*Resident only event*
DTSTART;TZID=America/Chicago:20250613T123000
DTEND;TZID=America/Chicago:20250613T140000
LOCATION:1717 FM359\, Richmond\, TX 77406 US
SUMMARY:Jones Creek: Exercise\, Social
END:VEVENT
END:VCALENDAR
