BEGIN:VCALENDAR
VERSION:2.0
PRODID:-//empowercdc.org//NONSGML kigkonsult.se iCalcreator 2.30.10//
CALSCALE:GREGORIAN
METHOD:PUBLISH
UID:118b73b3-2b1f-4b64-958c-37a0b1d53b4a
X-WR-CALDESC:CHARACTER BUILDING\n-Empower\nSelf-Esteem @ 1:00PM\n\nSOCIAL-E
 mpower\nPre-Father’s Day Social\n@ 2:00 PM
X-WR-RELCALID:264d06679244e18000ec09fa3b7365bc
X-WR-TIMEZONE:America/Chicago
BEGIN:VTIMEZONE
TZID:America/Chicago
BEGIN:STANDARD
TZNAME:CST
DTSTART:20241103T020000
TZOFFSETFROM:-0500
TZOFFSETTO:-0600
RDATE:20251102T020000
RDATE:20261101T020000
END:STANDARD
BEGIN:DAYLIGHT
TZNAME:CDT
DTSTART:20250309T020000
TZOFFSETFROM:-0600
TZOFFSETTO:-0500
RDATE:20260308T020000
END:DAYLIGHT
END:VTIMEZONE
BEGIN:VEVENT
UID:d80a3f39-b7d8-4481-b0e6-cb7e494cfa5e
DTSTAMP:20260423T101027Z
DESCRIPTION:CHARACTER BUILDING\n-Empower\nSelf-Esteem @ 1:00PM\n\nSOCIAL-Em
 power\nPre-Father’s Day Social\n@ 2:00 PM
DTSTART;TZID=America/Chicago:20250612T130000
DTEND;TZID=America/Chicago:20250612T150000
LOCATION:325 Flagship Boulevard\, Montgomery\, TX 77316 US
SUMMARY:The Heritage: Character Building\, Social
END:VEVENT
END:VCALENDAR
