BEGIN:VCALENDAR
VERSION:2.0
PRODID:-//empowercdc.org//NONSGML kigkonsult.se iCalcreator 2.30.10//
CALSCALE:GREGORIAN
METHOD:PUBLISH
UID:5504118d-1ca2-401d-8185-741f9bd610fe
X-WR-CALDESC:ARTS & CRAFTS-\nEmpower\n\nSunscreen with\nEssential Oils\n@10
 :00 AM
X-WR-RELCALID:2dcc6917ae1acd1b4237e97f5ac3b0a8
X-WR-TIMEZONE:America/Chicago
BEGIN:VTIMEZONE
TZID:America/Chicago
BEGIN:STANDARD
TZNAME:CST
DTSTART:20241103T020000
TZOFFSETFROM:-0500
TZOFFSETTO:-0600
RDATE:20251102T020000
RDATE:20261101T020000
END:STANDARD
BEGIN:DAYLIGHT
TZNAME:CDT
DTSTART:20250309T020000
TZOFFSETFROM:-0600
TZOFFSETTO:-0500
RDATE:20260308T020000
END:DAYLIGHT
END:VTIMEZONE
BEGIN:VEVENT
UID:3978feb3-0983-4a14-a123-95f8b39c6b4b
DTSTAMP:20260423T103902Z
DESCRIPTION:ARTS & CRAFTS-\nEmpower\n\nSunscreen with\nEssential Oils\n@10:
 00 AM
DTSTART;TZID=America/Chicago:20250612T100000
DTEND;TZID=America/Chicago:20250612T110000
LOCATION:219 Flagship Blvd\, Montgomery\, TX 77316 US
SUMMARY:The Heritage 55+: Arts & Crafts
END:VEVENT
END:VCALENDAR
