BEGIN:VCALENDAR
VERSION:2.0
PRODID:-//empowercdc.org//NONSGML kigkonsult.se iCalcreator 2.30.10//
CALSCALE:GREGORIAN
METHOD:PUBLISH
UID:78a2f3f2-729c-496f-a717-f78689626cc6
X-WR-CALDESC:DISASTER PREPAREDNESS\nDISASTER\nPREPAREDNESS&RESPONSE\nPLAN\n
 @10:00AM\n\nEXERCISE\nLINE DANCE\n@10:30AM\n\nTX SMP\nSCAM OF THE MONTH\n@
 11AM
X-WR-RELCALID:3164fec876af140fd20e52522286bf75
X-WR-TIMEZONE:America/Chicago
BEGIN:VTIMEZONE
TZID:America/Chicago
BEGIN:STANDARD
TZNAME:CST
DTSTART:20241103T020000
TZOFFSETFROM:-0500
TZOFFSETTO:-0600
RDATE:20251102T020000
RDATE:20261101T020000
END:STANDARD
BEGIN:DAYLIGHT
TZNAME:CDT
DTSTART:20250309T020000
TZOFFSETFROM:-0600
TZOFFSETTO:-0500
RDATE:20260308T020000
END:DAYLIGHT
END:VTIMEZONE
BEGIN:VEVENT
UID:3b8e465a-9f9e-41c6-b087-77a626d560e2
DTSTAMP:20260423T103721Z
DESCRIPTION:DISASTER PREPAREDNESS\nDISASTER\nPREPAREDNESS&RESPONSE\nPLAN\n@
 10:00AM\n\nEXERCISE\nLINE DANCE\n@10:30AM\n\nTX SMP\nSCAM OF THE MONTH\n@1
 1AM
DTSTART;TZID=America/Chicago:20250612T100000
DTEND;TZID=America/Chicago:20250612T120000
LOCATION:15707 Kuykendahl Ct\, Conroe\, TX 77384 US
SUMMARY:Kuykendalh Court: Disaster Preparedness\, TX SMP
END:VEVENT
END:VCALENDAR
