BEGIN:VCALENDAR
VERSION:2.0
PRODID:-//empowercdc.org//NONSGML kigkonsult.se iCalcreator 2.30.10//
CALSCALE:GREGORIAN
METHOD:PUBLISH
UID:ca30519e-c262-423e-8b7a-4176f0c818a0
X-WR-CALDESC:Senior Literacy 101-\nEmpower\nEmail Accounts Pt. 4\n@ 11:00AM
 \n\nDisaster Preparedness\nWorkshop-Empower\nDisaster Recovery\n@ 12:00PM
X-WR-RELCALID:9116e8c87187c3a8015c68d58bf1e11b
X-WR-TIMEZONE:America/Chicago
BEGIN:VTIMEZONE
TZID:America/Chicago
BEGIN:STANDARD
TZNAME:CST
DTSTART:20241103T020000
TZOFFSETFROM:-0500
TZOFFSETTO:-0600
RDATE:20251102T020000
RDATE:20261101T020000
END:STANDARD
BEGIN:DAYLIGHT
TZNAME:CDT
DTSTART:20250309T020000
TZOFFSETFROM:-0600
TZOFFSETTO:-0500
RDATE:20260308T020000
END:DAYLIGHT
END:VTIMEZONE
BEGIN:VEVENT
UID:2ff443da-c43f-417a-b083-9f24f42eb6de
DTSTAMP:20260423T102301Z
DESCRIPTION:Senior Literacy 101-\nEmpower\nEmail Accounts Pt. 4\n@ 11:00AM
 \n\nDisaster Preparedness\nWorkshop-Empower\nDisaster Recovery\n@ 12:00PM
DTSTART;TZID=America/Chicago:20250610T110000
DTEND;TZID=America/Chicago:20250610T130000
LOCATION:1830 Hollyoak Dr\, Houston\, TX 77084 US
SUMMARY:Hollyoak: Disaster Preparedness
END:VEVENT
END:VCALENDAR
